BEGIN:VCALENDAR
VERSION:2.0
PRODID:-//Charlotte Civic Orchestra ♫♫♫ - ECPv6.15.20//NONSGML v1.0//EN
CALSCALE:GREGORIAN
METHOD:PUBLISH
X-WR-CALNAME:Charlotte Civic Orchestra ♫♫♫
X-ORIGINAL-URL:https://www.charlottecivicorchestra.org/cco
X-WR-CALDESC:Events for Charlotte Civic Orchestra ♫♫♫
REFRESH-INTERVAL;VALUE=DURATION:PT1H
X-Robots-Tag:noindex
X-PUBLISHED-TTL:PT1H
BEGIN:VTIMEZONE
TZID:America/New_York
BEGIN:DAYLIGHT
TZOFFSETFROM:-0500
TZOFFSETTO:-0400
TZNAME:EDT
DTSTART:20220313T070000
END:DAYLIGHT
BEGIN:STANDARD
TZOFFSETFROM:-0400
TZOFFSETTO:-0500
TZNAME:EST
DTSTART:20221106T060000
END:STANDARD
BEGIN:DAYLIGHT
TZOFFSETFROM:-0500
TZOFFSETTO:-0400
TZNAME:EDT
DTSTART:20230312T070000
END:DAYLIGHT
BEGIN:STANDARD
TZOFFSETFROM:-0400
TZOFFSETTO:-0500
TZNAME:EST
DTSTART:20231105T060000
END:STANDARD
BEGIN:DAYLIGHT
TZOFFSETFROM:-0500
TZOFFSETTO:-0400
TZNAME:EDT
DTSTART:20240310T070000
END:DAYLIGHT
BEGIN:STANDARD
TZOFFSETFROM:-0400
TZOFFSETTO:-0500
TZNAME:EST
DTSTART:20241103T060000
END:STANDARD
END:VTIMEZONE
BEGIN:VEVENT
DTSTART;TZID=America/New_York:20230521T150000
DTEND;TZID=America/New_York:20230521T150000
DTSTAMP:20260423T223334
CREATED:20221111T150625Z
LAST-MODIFIED:20230327T161130Z
UID:1999-1684681200-1684681200@www.charlottecivicorchestra.org
SUMMARY:Celebrate Spring
DESCRIPTION:Celebrate Spring\nJoin us for the last concert of the season. Bring the family!\n\nDATE: Sunday\, May 21st\, 2023\nTime: 3:00 p.m.\nVENUE: Community Church at Lake Wylie\nREPERTOIRE:\n\nMy Fair Lady\nStrauss Voices of Spring\nBeethoven Symphony No. 7\nand More!\n\n\nTickets available at the door.\nAdults: $15\nSeniors and Students: $12\nChildren 3-11 Free
URL:https://www.charlottecivicorchestra.org/cco/event/celebrate-spring/
LOCATION:Community Church at Lake Wylie\, 104 Hamilton's Ferry Road\, Lake Wylie\, SC\, 29710\, United States
CATEGORIES:Upcoming Concerts
ATTACH;FMTTYPE=image/jpeg:https://www.charlottecivicorchestra.org/cco/wp-content/uploads/2022/11/ccospring.jpg
END:VEVENT
END:VCALENDAR