BEGIN:VCALENDAR
VERSION:2.0
PRODID:-//Charlotte Civic Orchestra ♫♫♫ - ECPv6.15.20//NONSGML v1.0//EN
CALSCALE:GREGORIAN
METHOD:PUBLISH
X-WR-CALNAME:Charlotte Civic Orchestra ♫♫♫
X-ORIGINAL-URL:https://www.charlottecivicorchestra.org/cco
X-WR-CALDESC:Events for Charlotte Civic Orchestra ♫♫♫
REFRESH-INTERVAL;VALUE=DURATION:PT1H
X-Robots-Tag:noindex
X-PUBLISHED-TTL:PT1H
BEGIN:VTIMEZONE
TZID:America/New_York
BEGIN:DAYLIGHT
TZOFFSETFROM:-0500
TZOFFSETTO:-0400
TZNAME:EDT
DTSTART:20250309T070000
END:DAYLIGHT
BEGIN:STANDARD
TZOFFSETFROM:-0400
TZOFFSETTO:-0500
TZNAME:EST
DTSTART:20251102T060000
END:STANDARD
BEGIN:DAYLIGHT
TZOFFSETFROM:-0500
TZOFFSETTO:-0400
TZNAME:EDT
DTSTART:20260308T070000
END:DAYLIGHT
BEGIN:STANDARD
TZOFFSETFROM:-0400
TZOFFSETTO:-0500
TZNAME:EST
DTSTART:20261101T060000
END:STANDARD
BEGIN:DAYLIGHT
TZOFFSETFROM:-0500
TZOFFSETTO:-0400
TZNAME:EDT
DTSTART:20270314T070000
END:DAYLIGHT
BEGIN:STANDARD
TZOFFSETFROM:-0400
TZOFFSETTO:-0500
TZNAME:EST
DTSTART:20271107T060000
END:STANDARD
END:VTIMEZONE
BEGIN:VEVENT
DTSTART;TZID=America/New_York:20260308T150000
DTEND;TZID=America/New_York:20260308T150000
DTSTAMP:20260419T122002
CREATED:20250818T204732Z
LAST-MODIFIED:20260225T150257Z
UID:2126-1772982000-1772982000@www.charlottecivicorchestra.org
SUMMARY:Winter Legends
DESCRIPTION:Winter Legends\n\nDATE: Rescheduled to: Sunday\, March 8\, 2026\nTime: 3:00 p.m.\nVENUE: Community Church at Lake Wylie\nREPERTOIRE:\n\nSchumann Symphony No. 3\, Rhenish\nHungarian Dance from Damnation of Faust-Berlioz\nSlavanic Dances No. 1 and 2- Dvorak\nMusic from the TITANIC\nA Tribute to John Williams
URL:https://www.charlottecivicorchestra.org/cco/event/winter-legends/
LOCATION:Community Church at Lake Wylie\, 104 Hamilton's Ferry Road\, Lake Wylie\, SC\, 29710\, United States
CATEGORIES:Upcoming Concerts
ATTACH;FMTTYPE=image/jpeg:https://www.charlottecivicorchestra.org/cco/wp-content/uploads/2025/08/Winter-Legends-2026-480.jpg
END:VEVENT
END:VCALENDAR