BEGIN:VCALENDAR
VERSION:2.0
PRODID:-//Charlotte Civic Orchestra ♫♫♫ - ECPv6.15.20//NONSGML v1.0//EN
CALSCALE:GREGORIAN
METHOD:PUBLISH
X-WR-CALNAME:Charlotte Civic Orchestra ♫♫♫
X-ORIGINAL-URL:https://www.charlottecivicorchestra.org/cco
X-WR-CALDESC:Events for Charlotte Civic Orchestra ♫♫♫
REFRESH-INTERVAL;VALUE=DURATION:PT1H
X-Robots-Tag:noindex
X-PUBLISHED-TTL:PT1H
BEGIN:VTIMEZONE
TZID:America/New_York
BEGIN:DAYLIGHT
TZOFFSETFROM:-0500
TZOFFSETTO:-0400
TZNAME:EDT
DTSTART:20220313T070000
END:DAYLIGHT
BEGIN:STANDARD
TZOFFSETFROM:-0400
TZOFFSETTO:-0500
TZNAME:EST
DTSTART:20221106T060000
END:STANDARD
BEGIN:DAYLIGHT
TZOFFSETFROM:-0500
TZOFFSETTO:-0400
TZNAME:EDT
DTSTART:20230312T070000
END:DAYLIGHT
BEGIN:STANDARD
TZOFFSETFROM:-0400
TZOFFSETTO:-0500
TZNAME:EST
DTSTART:20231105T060000
END:STANDARD
BEGIN:DAYLIGHT
TZOFFSETFROM:-0500
TZOFFSETTO:-0400
TZNAME:EDT
DTSTART:20240310T070000
END:DAYLIGHT
BEGIN:STANDARD
TZOFFSETFROM:-0400
TZOFFSETTO:-0500
TZNAME:EST
DTSTART:20241103T060000
END:STANDARD
END:VTIMEZONE
BEGIN:VEVENT
DTSTART;TZID=America/New_York:20230226T150000
DTEND;TZID=America/New_York:20230226T150000
DTSTAMP:20260424T051340
CREATED:20221111T145145Z
LAST-MODIFIED:20221119T194725Z
UID:1995-1677423600-1677423600@www.charlottecivicorchestra.org
SUMMARY:Back to the Future
DESCRIPTION:Back to the Future\nBack to the Future is a family event that everyone will enjoy!\n\nDATE: Sunday\, February 26th\, 2023\nTime: 3:00 p.m.\nVENUE: Community Church at Lake Wylie\, 104 Hamilton’s Ferry Road\, Lake Wylie\, SC\nREPERTOIRE:\n\nPeter and the Wolf\, with video and narrator\nStar Wars\nAladdin Medley and Other Favorites!\n\n\nTickets available at the door.\nAdults: $15\, Seniors and Students: $12
URL:https://www.charlottecivicorchestra.org/cco/event/back-to-the-future/
LOCATION:Community Church at Lake Wylie\, 104 Hamilton's Ferry Road\, Lake Wylie\, SC\, 29710\, United States
CATEGORIES:Upcoming Concerts
ATTACH;FMTTYPE=image/jpeg:https://www.charlottecivicorchestra.org/cco/wp-content/uploads/2022/11/back-to-the-future.jpg
END:VEVENT
END:VCALENDAR