BEGIN:VCALENDAR
VERSION:2.0
PRODID:-//Charlotte Civic Orchestra ♫♫♫ - ECPv6.15.20//NONSGML v1.0//EN
CALSCALE:GREGORIAN
METHOD:PUBLISH
X-WR-CALNAME:Charlotte Civic Orchestra ♫♫♫
X-ORIGINAL-URL:https://www.charlottecivicorchestra.org/cco
X-WR-CALDESC:Events for Charlotte Civic Orchestra ♫♫♫
REFRESH-INTERVAL;VALUE=DURATION:PT1H
X-Robots-Tag:noindex
X-PUBLISHED-TTL:PT1H
BEGIN:VTIMEZONE
TZID:America/New_York
BEGIN:DAYLIGHT
TZOFFSETFROM:-0500
TZOFFSETTO:-0400
TZNAME:EDT
DTSTART:20220313T070000
END:DAYLIGHT
BEGIN:STANDARD
TZOFFSETFROM:-0400
TZOFFSETTO:-0500
TZNAME:EST
DTSTART:20221106T060000
END:STANDARD
BEGIN:DAYLIGHT
TZOFFSETFROM:-0500
TZOFFSETTO:-0400
TZNAME:EDT
DTSTART:20230312T070000
END:DAYLIGHT
BEGIN:STANDARD
TZOFFSETFROM:-0400
TZOFFSETTO:-0500
TZNAME:EST
DTSTART:20231105T060000
END:STANDARD
BEGIN:DAYLIGHT
TZOFFSETFROM:-0500
TZOFFSETTO:-0400
TZNAME:EDT
DTSTART:20240310T070000
END:DAYLIGHT
BEGIN:STANDARD
TZOFFSETFROM:-0400
TZOFFSETTO:-0500
TZNAME:EST
DTSTART:20241103T060000
END:STANDARD
END:VTIMEZONE
BEGIN:VEVENT
DTSTART;TZID=America/New_York:20230924T150000
DTEND;TZID=America/New_York:20230924T150000
DTSTAMP:20260423T172147
CREATED:20230802T145909Z
LAST-MODIFIED:20230802T145909Z
UID:2013-1695567600-1695567600@www.charlottecivicorchestra.org
SUMMARY:Fall In Love
DESCRIPTION:Fall in Love\nPerforming the Beloved Rachmaninoff Piano Concerto No. 2 and other Favorites\nLawrence Quinnett\, Guest Pianist\n\nDATE: Sunday\, September 24th\, 2023\nTime: 3:00 p.m.\nVENUE: Community Church at Lake Wylie\nREPERTOIRE:\n\nRachmaninoff Piano Concerto No. 2\nOther Favorites\n\n\nTickets available at the door.\nAdults: $15\nSeniors and Students: $12\nChildren 3-11 Free
URL:https://www.charlottecivicorchestra.org/cco/event/fall-in-love/
LOCATION:Community Church at Lake Wylie\, 104 Hamilton's Ferry Road\, Lake Wylie\, SC\, 29710\, United States
CATEGORIES:Upcoming Concerts
ATTACH;FMTTYPE=image/jpeg:https://www.charlottecivicorchestra.org/cco/wp-content/uploads/2023/08/Fall-in-Love-Concert.jpg
END:VEVENT
END:VCALENDAR