BEGIN:VCALENDAR
VERSION:2.0
PRODID:-//Charlotte Civic Orchestra ♫♫♫ - ECPv6.15.20//NONSGML v1.0//EN
CALSCALE:GREGORIAN
METHOD:PUBLISH
X-ORIGINAL-URL:https://www.charlottecivicorchestra.org/cco
X-WR-CALDESC:Events for Charlotte Civic Orchestra ♫♫♫
REFRESH-INTERVAL;VALUE=DURATION:PT1H
X-Robots-Tag:noindex
X-PUBLISHED-TTL:PT1H
BEGIN:VTIMEZONE
TZID:America/New_York
BEGIN:DAYLIGHT
TZOFFSETFROM:-0500
TZOFFSETTO:-0400
TZNAME:EDT
DTSTART:20240310T070000
END:DAYLIGHT
BEGIN:STANDARD
TZOFFSETFROM:-0400
TZOFFSETTO:-0500
TZNAME:EST
DTSTART:20241103T060000
END:STANDARD
BEGIN:DAYLIGHT
TZOFFSETFROM:-0500
TZOFFSETTO:-0400
TZNAME:EDT
DTSTART:20250309T070000
END:DAYLIGHT
BEGIN:STANDARD
TZOFFSETFROM:-0400
TZOFFSETTO:-0500
TZNAME:EST
DTSTART:20251102T060000
END:STANDARD
BEGIN:DAYLIGHT
TZOFFSETFROM:-0500
TZOFFSETTO:-0400
TZNAME:EDT
DTSTART:20260308T070000
END:DAYLIGHT
BEGIN:STANDARD
TZOFFSETFROM:-0400
TZOFFSETTO:-0500
TZNAME:EST
DTSTART:20261101T060000
END:STANDARD
END:VTIMEZONE
BEGIN:VEVENT
DTSTART;TZID=America/New_York:20251130T190000
DTEND;TZID=America/New_York:20251130T190000
DTSTAMP:20260419T172806
CREATED:20250818T204433Z
LAST-MODIFIED:20250820T190540Z
UID:2124-1764529200-1764529200@www.charlottecivicorchestra.org
SUMMARY:Christmas Extravaganza
DESCRIPTION:Christmas Extravaganza\nExperience an unforgettable evening with family and friends! Charlotte’s best and most affordable holiday show!\n\nDATE: November 30\, 2025\nTIME: 7:00 pm\nVENUE: Halton Theater\n\n\nFEATURING:\n\nCharlotte Youth Ballet\nHoliday Singers\nEmpower Dancers (Rockette style)\nInternational Ballroom Dance Winners Gabriela and Dimitri\n100 voice choir from South Meck\, Myers Park and Butler High Schools\nand More!\n\n\n\n\nTICKETS for Reserved Seating may be purchased online at:\n\nOnline: Tickets\nPhone: 704-330-6841\n\n\n\nWe recommend that you purchase tickets early. This show is a popular concert in the Charlotte area and we expect a full house.
URL:https://www.charlottecivicorchestra.org/cco/event/christmas-extravaganza-2025/
LOCATION:Halton Theatre\, CPCC Central Campus\, 1206 Elizabeth Ave\, Charlotte\, Charlotte\, NC\, 28204\, United States
CATEGORIES:Upcoming Concerts
ATTACH;FMTTYPE=image/jpeg:https://www.charlottecivicorchestra.org/cco/wp-content/uploads/2025/08/CCO-CE2024-2.jpg
END:VEVENT
END:VCALENDAR