BEGIN:VCALENDAR
VERSION:2.0
PRODID:-//Charlotte Civic Orchestra ♫♫♫ - ECPv6.15.20//NONSGML v1.0//EN
CALSCALE:GREGORIAN
METHOD:PUBLISH
X-WR-CALNAME:Charlotte Civic Orchestra ♫♫♫
X-ORIGINAL-URL:https://www.charlottecivicorchestra.org/cco
X-WR-CALDESC:Events for Charlotte Civic Orchestra ♫♫♫
REFRESH-INTERVAL;VALUE=DURATION:PT1H
X-Robots-Tag:noindex
X-PUBLISHED-TTL:PT1H
BEGIN:VTIMEZONE
TZID:America/New_York
BEGIN:DAYLIGHT
TZOFFSETFROM:-0500
TZOFFSETTO:-0400
TZNAME:EDT
DTSTART:20230312T070000
END:DAYLIGHT
BEGIN:STANDARD
TZOFFSETFROM:-0400
TZOFFSETTO:-0500
TZNAME:EST
DTSTART:20231105T060000
END:STANDARD
BEGIN:DAYLIGHT
TZOFFSETFROM:-0500
TZOFFSETTO:-0400
TZNAME:EDT
DTSTART:20240310T070000
END:DAYLIGHT
BEGIN:STANDARD
TZOFFSETFROM:-0400
TZOFFSETTO:-0500
TZNAME:EST
DTSTART:20241103T060000
END:STANDARD
BEGIN:DAYLIGHT
TZOFFSETFROM:-0500
TZOFFSETTO:-0400
TZNAME:EDT
DTSTART:20250309T070000
END:DAYLIGHT
BEGIN:STANDARD
TZOFFSETFROM:-0400
TZOFFSETTO:-0500
TZNAME:EST
DTSTART:20251102T060000
END:STANDARD
END:VTIMEZONE
BEGIN:VEVENT
DTSTART;TZID=America/New_York:20240225T150000
DTEND;TZID=America/New_York:20240225T150000
DTSTAMP:20260422T015940
CREATED:20231114T152026Z
LAST-MODIFIED:20231114T152026Z
UID:2035-1708873200-1708873200@www.charlottecivicorchestra.org
SUMMARY:From Mozart to Brahms
DESCRIPTION:From Mozart to Brahms\n\n\nDATE: Sunday\, February 25th\, 2024\nTime: 3:00 p.m.\nVENUE: \n\nCommunity Church at Lake Wylie\n104 Hamilton’s Ferry Road\nLake Wylie\, SC 29710\n\n\nREPERTOIRE:\n\nMozart: Così fan tutte Overture\nBrahms: Symphony No. 3 in F Major\nGlinka: Ruslan and Ludmilla\nLerory Anderson Favorites\nHamilton Highlights\n\n\nTickets available at the door.\n\nAdults: $15\,\nSeniors and Students: $12\nChildren 3-11: Free
URL:https://www.charlottecivicorchestra.org/cco/event/from-mozart-to-brahms/
LOCATION:Community Church at Lake Wylie\, 104 Hamilton's Ferry Road\, Lake Wylie\, SC\, 29710\, United States
CATEGORIES:Upcoming Concerts
ATTACH;FMTTYPE=image/jpeg:https://www.charlottecivicorchestra.org/cco/wp-content/uploads/2023/11/February-25-2024-Comcert_600.jpg
END:VEVENT
END:VCALENDAR