BEGIN:VCALENDAR
VERSION:2.0
PRODID:-//Charlotte Civic Orchestra ♫♫♫ - ECPv6.15.20//NONSGML v1.0//EN
CALSCALE:GREGORIAN
METHOD:PUBLISH
X-WR-CALNAME:Charlotte Civic Orchestra ♫♫♫
X-ORIGINAL-URL:https://www.charlottecivicorchestra.org/cco
X-WR-CALDESC:Events for Charlotte Civic Orchestra ♫♫♫
REFRESH-INTERVAL;VALUE=DURATION:PT1H
X-Robots-Tag:noindex
X-PUBLISHED-TTL:PT1H
BEGIN:VTIMEZONE
TZID:America/New_York
BEGIN:DAYLIGHT
TZOFFSETFROM:-0500
TZOFFSETTO:-0400
TZNAME:EDT
DTSTART:20240310T070000
END:DAYLIGHT
BEGIN:STANDARD
TZOFFSETFROM:-0400
TZOFFSETTO:-0500
TZNAME:EST
DTSTART:20241103T060000
END:STANDARD
BEGIN:DAYLIGHT
TZOFFSETFROM:-0500
TZOFFSETTO:-0400
TZNAME:EDT
DTSTART:20250309T070000
END:DAYLIGHT
BEGIN:STANDARD
TZOFFSETFROM:-0400
TZOFFSETTO:-0500
TZNAME:EST
DTSTART:20251102T060000
END:STANDARD
BEGIN:DAYLIGHT
TZOFFSETFROM:-0500
TZOFFSETTO:-0400
TZNAME:EDT
DTSTART:20260308T070000
END:DAYLIGHT
BEGIN:STANDARD
TZOFFSETFROM:-0400
TZOFFSETTO:-0500
TZNAME:EST
DTSTART:20261101T060000
END:STANDARD
END:VTIMEZONE
BEGIN:VEVENT
DTSTART;TZID=America/New_York:20251024T190000
DTEND;TZID=America/New_York:20251024T190000
DTSTAMP:20260420T090225
CREATED:20250820T141958Z
LAST-MODIFIED:20250820T155052Z
UID:2136-1761332400-1761332400@www.charlottecivicorchestra.org
SUMMARY:The Wolf
DESCRIPTION:The Wolf\nWorld premiere of local composer Sean Michael Smith’s Symphony No 1\, The Wolf.\n\nDATE: Friday\, October 24th\, 2025\nTIME: 7:30 p.m.\nVENUE: Halton Theater\nTICKETS: \n\nClick the link for Reserved Seating\nOr Call: 704 330-6941
URL:https://www.charlottecivicorchestra.org/cco/event/the-wolf/
LOCATION:Halton Theatre\, CPCC Central Campus\, 1206 Elizabeth Ave\, Charlotte\, Charlotte\, NC\, 28204\, United States
CATEGORIES:Upcoming Concerts
ATTACH;FMTTYPE=image/png:https://www.charlottecivicorchestra.org/cco/wp-content/uploads/2025/08/the-wolf-symphony.png
END:VEVENT
END:VCALENDAR